BEGIN:VCALENDAR
VERSION:2.0
PRODID:-//Japan America Society of Chicago - ECPv6.15.14//NONSGML v1.0//EN
CALSCALE:GREGORIAN
METHOD:PUBLISH
X-WR-CALNAME:Japan America Society of Chicago
X-ORIGINAL-URL:https://jaschicago.org
X-WR-CALDESC:Events for Japan America Society of Chicago
REFRESH-INTERVAL;VALUE=DURATION:PT1H
X-Robots-Tag:noindex
X-PUBLISHED-TTL:PT1H
BEGIN:VTIMEZONE
TZID:America/Chicago
BEGIN:DAYLIGHT
TZOFFSETFROM:-0600
TZOFFSETTO:-0500
TZNAME:CDT
DTSTART:20240310T080000
END:DAYLIGHT
BEGIN:STANDARD
TZOFFSETFROM:-0500
TZOFFSETTO:-0600
TZNAME:CST
DTSTART:20241103T070000
END:STANDARD
BEGIN:DAYLIGHT
TZOFFSETFROM:-0600
TZOFFSETTO:-0500
TZNAME:CDT
DTSTART:20250309T080000
END:DAYLIGHT
BEGIN:STANDARD
TZOFFSETFROM:-0500
TZOFFSETTO:-0600
TZNAME:CST
DTSTART:20251102T070000
END:STANDARD
BEGIN:DAYLIGHT
TZOFFSETFROM:-0600
TZOFFSETTO:-0500
TZNAME:CDT
DTSTART:20260308T080000
END:DAYLIGHT
BEGIN:STANDARD
TZOFFSETFROM:-0500
TZOFFSETTO:-0600
TZNAME:CST
DTSTART:20261101T070000
END:STANDARD
END:VTIMEZONE
BEGIN:VEVENT
DTSTART;TZID=America/Chicago:20250218T180000
DTEND;TZID=America/Chicago:20250218T193000
DTSTAMP:20260425T090527
CREATED:20241215T191352Z
LAST-MODIFIED:20250213T020546Z
UID:6490-1739901600-1739907000@jaschicago.org
SUMMARY:The Beautiful World of Mizuhiki
DESCRIPTION:RSVP by Monday\, February 17. Due to security measures walk-ins will not be permitted. \nZOOM registration is closed. In-person registration is still available and will end on Monday\, February 17. 
URL:https://jaschicago.org/event/the-beautiful-world-of-mizuhiki/
LOCATION:Industrious\, 500 W Madison\, 10th Floor\, Chicago\, IL\, 60661\, United States
CATEGORIES:Event
ATTACH;FMTTYPE=image/png:https://jaschicago.org/wp-content/uploads/2024/12/The-Beautiful-World-of-Mizuhiki-4.png
END:VEVENT
END:VCALENDAR