BEGIN:VCALENDAR
VERSION:2.0
PRODID:-//Japan America Society of Chicago - ECPv6.15.14//NONSGML v1.0//EN
CALSCALE:GREGORIAN
METHOD:PUBLISH
X-WR-CALNAME:Japan America Society of Chicago
X-ORIGINAL-URL:https://jaschicago.org
X-WR-CALDESC:Events for Japan America Society of Chicago
REFRESH-INTERVAL;VALUE=DURATION:PT1H
X-Robots-Tag:noindex
X-PUBLISHED-TTL:PT1H
BEGIN:VTIMEZONE
TZID:America/Chicago
BEGIN:DAYLIGHT
TZOFFSETFROM:-0600
TZOFFSETTO:-0500
TZNAME:CDT
DTSTART:20250309T080000
END:DAYLIGHT
BEGIN:STANDARD
TZOFFSETFROM:-0500
TZOFFSETTO:-0600
TZNAME:CST
DTSTART:20251102T070000
END:STANDARD
BEGIN:DAYLIGHT
TZOFFSETFROM:-0600
TZOFFSETTO:-0500
TZNAME:CDT
DTSTART:20260308T080000
END:DAYLIGHT
BEGIN:STANDARD
TZOFFSETFROM:-0500
TZOFFSETTO:-0600
TZNAME:CST
DTSTART:20261101T070000
END:STANDARD
BEGIN:DAYLIGHT
TZOFFSETFROM:-0600
TZOFFSETTO:-0500
TZNAME:CDT
DTSTART:20270314T080000
END:DAYLIGHT
BEGIN:STANDARD
TZOFFSETFROM:-0500
TZOFFSETTO:-0600
TZNAME:CST
DTSTART:20271107T070000
END:STANDARD
END:VTIMEZONE
BEGIN:VEVENT
DTSTART;TZID=America/Chicago:20260528T170000
DTEND;TZID=America/Chicago:20260528T183000
DTSTAMP:20260424T061434
CREATED:20260423T194016Z
LAST-MODIFIED:20260423T214044Z
UID:7747-1779987600-1779993000@jaschicago.org
SUMMARY:Eat-a-Ducky-Mouse: A Gastro-Memoir and Love Letter to Japanese American Food
DESCRIPTION:Eat-a-Ducky-Mouse: A Gastro-Memoir and Love Letter to Japanese American Food \n28 May 2026\, 5:00 PM – 6:30 PM  \n5:00-5:30 pm – Registration & Light Reception  (Enjoy some fun treats from Eat-a-Ducky-Mouse)　5:30-6:30 pm – Presentation and Q&A \nRegistration: \nMembers $35 per person (includes autographed book) \nNon-Members $45 per person (includes autographed book)\nAbout the Event  \nEvery group of immigrants that comes to the US brings with it a food culture that may not be reproduceable in their new home given the availability of products\, retailers\, and restaurants\, as well as the urge to leave old ways behind and acculturate into the American food landscape. However\, many cultures\, Japanese Americans among them\, have successfully integrated foods from the homeland with “American” cuisine\, creating a food culture that is unique to both. Eat-a-Ducky Mouse: A Gastro-Memoir and Love Letter to Japanese American Food Culture is the first in-depth examination of over 125 years of Japanese American eating\, drinking\, cooking\, dining and more. \nAbout the Speaker \nBob Kumaki is the Managing Principal of the Ronin Group\, Clinical Professor of Marketing at Northeastern Illinois University and author of over 100 newspaper and professional journal articles and columns. \nIn the food realm\, he has dined with Julia Child\, Ming Tsai and Emeril Lagasse among other superstar chefs. He has done food research for the Government of Japan and eaten an estimated 125 global cuisines. He has a sake professional certification and his latest book Eat-a-Ducky-Mouse: A Gastro-Memoir and Love Letter to Japanese American Food Culture has been nominated for a James Beard Media Award. \n(Note: Finalists for the James Beard Awards will be announced May 6) \nRegister Here
URL:https://jaschicago.org/event/eat-a-ducky-mouse-a-gastro-memoir-and-love-letter-to-japanese-american-food/
LOCATION:Industrious\, 500 W Madison\, 10th Floor\, Chicago\, IL\, 60661\, United States
CATEGORIES:Event
ATTACH;FMTTYPE=image/png:https://jaschicago.org/wp-content/uploads/2026/04/Eat-a-Ducky-Mouse-Horizontal-Banner.png
END:VEVENT
END:VCALENDAR