BEGIN:VCALENDAR
VERSION:2.0
PRODID:-//Japan America Society of Chicago - ECPv6.15.14//NONSGML v1.0//EN
CALSCALE:GREGORIAN
METHOD:PUBLISH
X-WR-CALNAME:Japan America Society of Chicago
X-ORIGINAL-URL:https://jaschicago.org
X-WR-CALDESC:Events for Japan America Society of Chicago
REFRESH-INTERVAL;VALUE=DURATION:PT1H
X-Robots-Tag:noindex
X-PUBLISHED-TTL:PT1H
BEGIN:VTIMEZONE
TZID:America/Chicago
BEGIN:DAYLIGHT
TZOFFSETFROM:-0600
TZOFFSETTO:-0500
TZNAME:CDT
DTSTART:20210314T080000
END:DAYLIGHT
BEGIN:STANDARD
TZOFFSETFROM:-0500
TZOFFSETTO:-0600
TZNAME:CST
DTSTART:20211107T070000
END:STANDARD
BEGIN:DAYLIGHT
TZOFFSETFROM:-0600
TZOFFSETTO:-0500
TZNAME:CDT
DTSTART:20220313T080000
END:DAYLIGHT
BEGIN:STANDARD
TZOFFSETFROM:-0500
TZOFFSETTO:-0600
TZNAME:CST
DTSTART:20221106T070000
END:STANDARD
BEGIN:DAYLIGHT
TZOFFSETFROM:-0600
TZOFFSETTO:-0500
TZNAME:CDT
DTSTART:20230312T080000
END:DAYLIGHT
BEGIN:STANDARD
TZOFFSETFROM:-0500
TZOFFSETTO:-0600
TZNAME:CST
DTSTART:20231105T070000
END:STANDARD
END:VTIMEZONE
BEGIN:VEVENT
DTSTART;TZID=America/Chicago:20220818T170000
DTEND;TZID=America/Chicago:20220818T180000
DTSTAMP:20260420T044555
CREATED:20220512T003530Z
LAST-MODIFIED:20220602T013444Z
UID:2213-1660842000-1660845600@jaschicago.org
SUMMARY:An Introduction to the Japanese Garden
DESCRIPTION:About the Event\nYvonne Wolf will give a short background on the aesthetics of the Japanese gardens. Discover Confucian symbolism expressed in gardens and how they are used to relieve stress and cultivate inner peace. Learn the meanings behind paths\, ponds\, and pavilions. Yvonne will use examples from the Japanese Garden at the Chicago Botanic Garden\, Garden of the Phoenix in Chicago\, and more. After attending this presentation\, you will have a greater understanding and appreciation of Japanese gardens. \nAbout the Speaker\n \nYvonne Wolf is an intercultural consultant and founder of Chinese Intercultural\, LLC. She speaks on a variety of topics that help to clarify elements of Chinese and East Asian cultures in an accessible and relatable context. Yvonne shares the knowledge and skills she has acquired having lived in four different countries where she became fluent in three languages: (Chinese- Mandarin\, English\, and Danish.) She has also studied Japanese\, Greek\,and Spanish. She has worked with organizations and business executives focusing on communication strategies working with Chinese and East Asian partners. Among her many skills is mediating across cultural misunderstandings. \n*The Zoom event link will be sent in the confirmation email. Please be sure to check your email junk folder and whitelist “@jaschicago.org” for future mailings if your confirmation ends up there.
URL:https://jaschicago.org/event/an-introduction-to-the-japanese-garden/
LOCATION:Online Zoom Event
CATEGORIES:Event
ATTACH;FMTTYPE=image/jpeg:https://jaschicago.org/wp-content/uploads/2022/05/japanese-garden-event-1200600.jpg
ORGANIZER;CN="Japan America Society Of Chicago":MAILTO:kono@jaschicago.org
END:VEVENT
END:VCALENDAR