BEGIN:VCALENDAR
VERSION:2.0
PRODID:-//Japan America Society of Chicago - ECPv6.15.14//NONSGML v1.0//EN
CALSCALE:GREGORIAN
METHOD:PUBLISH
X-WR-CALNAME:Japan America Society of Chicago
X-ORIGINAL-URL:https://jaschicago.org
X-WR-CALDESC:Events for Japan America Society of Chicago
REFRESH-INTERVAL;VALUE=DURATION:PT1H
X-Robots-Tag:noindex
X-PUBLISHED-TTL:PT1H
BEGIN:VTIMEZONE
TZID:America/Chicago
BEGIN:DAYLIGHT
TZOFFSETFROM:-0600
TZOFFSETTO:-0500
TZNAME:CDT
DTSTART:20210314T080000
END:DAYLIGHT
BEGIN:STANDARD
TZOFFSETFROM:-0500
TZOFFSETTO:-0600
TZNAME:CST
DTSTART:20211107T070000
END:STANDARD
BEGIN:DAYLIGHT
TZOFFSETFROM:-0600
TZOFFSETTO:-0500
TZNAME:CDT
DTSTART:20220313T080000
END:DAYLIGHT
BEGIN:STANDARD
TZOFFSETFROM:-0500
TZOFFSETTO:-0600
TZNAME:CST
DTSTART:20221106T070000
END:STANDARD
BEGIN:DAYLIGHT
TZOFFSETFROM:-0600
TZOFFSETTO:-0500
TZNAME:CDT
DTSTART:20230312T080000
END:DAYLIGHT
BEGIN:STANDARD
TZOFFSETFROM:-0500
TZOFFSETTO:-0600
TZNAME:CST
DTSTART:20231105T070000
END:STANDARD
END:VTIMEZONE
BEGIN:VEVENT
DTSTART;TZID=America/Chicago:20220609T170000
DTEND;TZID=America/Chicago:20220609T180000
DTSTAMP:20260420T044117
CREATED:20220514T025444Z
LAST-MODIFIED:20220520T204026Z
UID:2260-1654794000-1654797600@jaschicago.org
SUMMARY:92nd Annual Meeting
DESCRIPTION:*The Zoom event link will be sent in the confirmation email. Please be sure to check your email junk folder and whitelist “@jaschicago.org” for future mailings if your confirmation ends up there.
URL:https://jaschicago.org/event/92nd-annual-meeting/
LOCATION:Online Zoom Event
CATEGORIES:Event
ATTACH;FMTTYPE=image/png:https://jaschicago.org/wp-content/uploads/2022/05/92nd-Annual-Meeting-Banner-.png
ORGANIZER;CN="Japan America Society Of Chicago":MAILTO:kono@jaschicago.org
END:VEVENT
END:VCALENDAR